BEGIN:VCALENDAR
VERSION:2.0
PRODID:-//Belmont Art Association - ECPv6.15.18//NONSGML v1.0//EN
CALSCALE:GREGORIAN
METHOD:PUBLISH
X-WR-CALNAME:Belmont Art Association
X-ORIGINAL-URL:https://belmontart.org
X-WR-CALDESC:Events for Belmont Art Association
REFRESH-INTERVAL;VALUE=DURATION:PT1H
X-Robots-Tag:noindex
X-PUBLISHED-TTL:PT1H
BEGIN:VTIMEZONE
TZID:America/New_York
BEGIN:DAYLIGHT
TZOFFSETFROM:-0500
TZOFFSETTO:-0400
TZNAME:EDT
DTSTART:20160313T070000
END:DAYLIGHT
BEGIN:STANDARD
TZOFFSETFROM:-0400
TZOFFSETTO:-0500
TZNAME:EST
DTSTART:20161106T060000
END:STANDARD
BEGIN:DAYLIGHT
TZOFFSETFROM:-0500
TZOFFSETTO:-0400
TZNAME:EDT
DTSTART:20170312T070000
END:DAYLIGHT
BEGIN:STANDARD
TZOFFSETFROM:-0400
TZOFFSETTO:-0500
TZNAME:EST
DTSTART:20171105T060000
END:STANDARD
BEGIN:DAYLIGHT
TZOFFSETFROM:-0500
TZOFFSETTO:-0400
TZNAME:EDT
DTSTART:20180311T070000
END:DAYLIGHT
BEGIN:STANDARD
TZOFFSETFROM:-0400
TZOFFSETTO:-0500
TZNAME:EST
DTSTART:20181104T060000
END:STANDARD
END:VTIMEZONE
BEGIN:VEVENT
DTSTART;TZID=America/New_York:20170720T150000
DTEND;TZID=America/New_York:20170720T170000
DTSTAMP:20260424T193914
CREATED:20170624T032722Z
LAST-MODIFIED:20170624T034224Z
UID:9790-1500562800-1500570000@belmontart.org
SUMMARY:BAA New Works - Special Event - Simplified Anatomy
DESCRIPTION:Special Event: BAA Art-Making Workshop (Free)!\nRefresh your skills or learn some new techniques…\nThe Belmont Art Association (BAA)\, in partnership with the Belmont Gallery of Art (BGA)\, presents a series of four special summer art-making events on Thursday evenings. All workshops take place 7-9pm at the Belmont Gallery of Art.  \nThurs.\, July 20: SIMPLIFIED ANATOMY\nDrawing the Human Figure from Imagination and Life – led by Damon Lehrer. Lehrer has taught at RISD\, Boston University\, Art Institute of Boston\, Mass College of Art\, and Montserrat College of Art. Founder of Boston Figurative Art Center\, Somerville. \nArt supplies will be provided for workshop attendees. Some events will feature brief talks by participating BAA artists about their individual art-making techniques and influences. Refreshments will be served. Free admission.
URL:https://belmontart.org/calendar/baa-new-works-special-event-simplified-anatomy/
LOCATION:Belmont Gallery of Art\, Town Hall Complex\, Homer Municipal Building; 19 Moore St\, 3rd floor\, Belmont Center\, MA\, 02478\, United States
CATEGORIES:Artist Talks,BAA Events,Classes, Programs, Workshops
END:VEVENT
END:VCALENDAR