BEGIN:VCALENDAR
VERSION:2.0
PRODID:-//Belmont Art Association - ECPv6.15.18//NONSGML v1.0//EN
CALSCALE:GREGORIAN
METHOD:PUBLISH
X-ORIGINAL-URL:https://belmontart.org
X-WR-CALDESC:Events for Belmont Art Association
REFRESH-INTERVAL;VALUE=DURATION:PT1H
X-Robots-Tag:noindex
X-PUBLISHED-TTL:PT1H
BEGIN:VTIMEZONE
TZID:America/New_York
BEGIN:DAYLIGHT
TZOFFSETFROM:-0500
TZOFFSETTO:-0400
TZNAME:EDT
DTSTART:20160313T070000
END:DAYLIGHT
BEGIN:STANDARD
TZOFFSETFROM:-0400
TZOFFSETTO:-0500
TZNAME:EST
DTSTART:20161106T060000
END:STANDARD
BEGIN:DAYLIGHT
TZOFFSETFROM:-0500
TZOFFSETTO:-0400
TZNAME:EDT
DTSTART:20170312T070000
END:DAYLIGHT
BEGIN:STANDARD
TZOFFSETFROM:-0400
TZOFFSETTO:-0500
TZNAME:EST
DTSTART:20171105T060000
END:STANDARD
BEGIN:DAYLIGHT
TZOFFSETFROM:-0500
TZOFFSETTO:-0400
TZNAME:EDT
DTSTART:20180311T070000
END:DAYLIGHT
BEGIN:STANDARD
TZOFFSETFROM:-0400
TZOFFSETTO:-0500
TZNAME:EST
DTSTART:20181104T060000
END:STANDARD
END:VTIMEZONE
BEGIN:VEVENT
DTSTART;TZID=America/New_York:20171026T150000
DTEND;TZID=America/New_York:20171026T170000
DTSTAMP:20260424T045839
CREATED:20171020T200901Z
LAST-MODIFIED:20171020T201402Z
UID:9850-1509030000-1509037200@belmontart.org
SUMMARY:Draw From a Live Model
DESCRIPTION:Come try your hand at drawing a live model.  April will be posing in a bathing suit.\nBAA members will be on hand to give guidance if requested.\n(note to BAA members – Even if you don’t want to draw\, please come and socialize!) \n\nFREE and OPEN TO THE PUBLIC!\nSponsored by the Belmont Art Association\nin collaboration with the Belmont Gallery of Art\nThursday\, October 26th from 7-9pm \nLight Refreshments \nBring pad and paper.  Some supplies will be available.
URL:https://belmontart.org/calendar/draw-from-a-live-model/
LOCATION:Belmont Gallery of Art\, Town Hall Complex\, Homer Municipal Building; 19 Moore St\, 3rd floor\, Belmont Center\, MA\, 02478\, United States
CATEGORIES:BAA Events,Classes, Programs, Workshops
END:VEVENT
END:VCALENDAR