BEGIN:VCALENDAR
VERSION:2.0
PRODID:-//Belmont Art Association - ECPv6.15.18//NONSGML v1.0//EN
CALSCALE:GREGORIAN
METHOD:PUBLISH
X-WR-CALNAME:Belmont Art Association
X-ORIGINAL-URL:https://belmontart.org
X-WR-CALDESC:Events for Belmont Art Association
REFRESH-INTERVAL;VALUE=DURATION:PT1H
X-Robots-Tag:noindex
X-PUBLISHED-TTL:PT1H
BEGIN:VTIMEZONE
TZID:America/New_York
BEGIN:DAYLIGHT
TZOFFSETFROM:-0500
TZOFFSETTO:-0400
TZNAME:EDT
DTSTART:20180311T070000
END:DAYLIGHT
BEGIN:STANDARD
TZOFFSETFROM:-0400
TZOFFSETTO:-0500
TZNAME:EST
DTSTART:20181104T060000
END:STANDARD
BEGIN:DAYLIGHT
TZOFFSETFROM:-0500
TZOFFSETTO:-0400
TZNAME:EDT
DTSTART:20190310T070000
END:DAYLIGHT
BEGIN:STANDARD
TZOFFSETFROM:-0400
TZOFFSETTO:-0500
TZNAME:EST
DTSTART:20191103T060000
END:STANDARD
BEGIN:DAYLIGHT
TZOFFSETFROM:-0500
TZOFFSETTO:-0400
TZNAME:EDT
DTSTART:20200308T070000
END:DAYLIGHT
BEGIN:STANDARD
TZOFFSETFROM:-0400
TZOFFSETTO:-0500
TZNAME:EST
DTSTART:20201101T060000
END:STANDARD
END:VTIMEZONE
BEGIN:VEVENT
DTSTART;TZID=America/New_York:20190614T000000
DTEND;TZID=America/New_York:20190707T000000
DTSTAMP:20260420T141858
CREATED:20190605T033730Z
LAST-MODIFIED:20190605T034018Z
UID:10399-1560470400-1562457600@belmontart.org
SUMMARY:Exhibit: Thrive
DESCRIPTION:Gallery Twist of Lexington is exhibiting Thrive\, a ‘loosely’ garden-themed\, summery feeling show. Inspired by the vibrancy and lush exuberance of the season\, there will be much in this show to nourish\, restore and delight\, after New England’s (possibly) longest Winter and wettest Spring. \nGallery Twist is at 1963 Massachusetts Ave\, Lexington Ma. \nOpening reception Saturday Jun 15\, 5:00 – 8:00pm.
URL:https://belmontart.org/calendar/opening-reception-thrive/
LOCATION:Gallery Twist\, 1963 Massachusetts Avenue\, Lexington\, MA\, 02421\, United States
CATEGORIES:Art Shows | Exhibits
END:VEVENT
END:VCALENDAR