BEGIN:VCALENDAR
VERSION:2.0
PRODID:-//Belmont Art Association - ECPv6.15.18//NONSGML v1.0//EN
CALSCALE:GREGORIAN
METHOD:PUBLISH
X-ORIGINAL-URL:https://belmontart.org
X-WR-CALDESC:Events for Belmont Art Association
REFRESH-INTERVAL;VALUE=DURATION:PT1H
X-Robots-Tag:noindex
X-PUBLISHED-TTL:PT1H
BEGIN:VTIMEZONE
TZID:America/New_York
BEGIN:DAYLIGHT
TZOFFSETFROM:-0500
TZOFFSETTO:-0400
TZNAME:EDT
DTSTART:20130310T070000
END:DAYLIGHT
BEGIN:STANDARD
TZOFFSETFROM:-0400
TZOFFSETTO:-0500
TZNAME:EST
DTSTART:20131103T060000
END:STANDARD
BEGIN:DAYLIGHT
TZOFFSETFROM:-0500
TZOFFSETTO:-0400
TZNAME:EDT
DTSTART:20140309T070000
END:DAYLIGHT
BEGIN:STANDARD
TZOFFSETFROM:-0400
TZOFFSETTO:-0500
TZNAME:EST
DTSTART:20141102T060000
END:STANDARD
BEGIN:DAYLIGHT
TZOFFSETFROM:-0500
TZOFFSETTO:-0400
TZNAME:EDT
DTSTART:20150308T070000
END:DAYLIGHT
BEGIN:STANDARD
TZOFFSETFROM:-0400
TZOFFSETTO:-0500
TZNAME:EST
DTSTART:20151101T060000
END:STANDARD
END:VTIMEZONE
BEGIN:VEVENT
DTSTART;TZID=America/New_York:20140902T040000
DTEND;TZID=America/New_York:20140902T130000
DTSTAMP:20260423T135536
CREATED:20140814T020908Z
LAST-MODIFIED:20140814T200802Z
UID:7888-1409630400-1409662800@belmontart.org
SUMMARY:CALL FOR ENTRIES deadline: The Artist's Magazine Over 60 Competition
DESCRIPTION:We’re looking for artists age 60+ working in two dimensions in all traditional art media. Submit your work and you could see it featured in The Artist’s Magazine! 10 winners will be prominently featured in the magazine and will receive $250 each in cash prizes. Entry fee.
URL:https://belmontart.org/calendar/call-for-entries-the-artists-magazine-over-60-competition/
LOCATION:MA
CATEGORIES:Call for Artists | Call for Entries
ORGANIZER;CN="Unnamed Organizer":MAILTO:art-competition-at-fwmedia.com
END:VEVENT
BEGIN:VEVENT
DTSTART;TZID=America/New_York:20140915T040000
DTEND;TZID=America/New_York:20140915T130000
DTSTAMP:20260423T135536
CREATED:20140814T043727Z
LAST-MODIFIED:20140814T200820Z
UID:7907-1410753600-1410786000@belmontart.org
SUMMARY:CALL FOR WORKS ON PAPER deadline - So. Short Art Center
DESCRIPTION:South Shore Art Center in Cohasset\, MA\, invites entries of original work that offer distinctive\, imaginative imagery using paper. \nShow dates October 24 – December 21\, 2014. \nOpening Reception October 24 6-8pm \nJuried by Al Miner\, Assistant Curator of Contemporary Art at the Museum of Fine Arts\, Boston. $1200 in prizes – all work must be for sale. Entry fee. \nDeadline: Sept. 15\, 2014 \n 
URL:https://belmontart.org/calendar/call-for-works-on-paper-so-short-art-center/
LOCATION:South Shore Art Center\, 119 Ripley Rd.\, Cohasset\, MA\, 02025\, United States
CATEGORIES:Call for Artists | Call for Entries
END:VEVENT
END:VCALENDAR