BEGIN:VCALENDAR
VERSION:2.0
PRODID:-//Belmont Art Association - ECPv6.15.18//NONSGML v1.0//EN
CALSCALE:GREGORIAN
METHOD:PUBLISH
X-WR-CALNAME:Belmont Art Association
X-ORIGINAL-URL:https://belmontart.org
X-WR-CALDESC:Events for Belmont Art Association
REFRESH-INTERVAL;VALUE=DURATION:PT1H
X-Robots-Tag:noindex
X-PUBLISHED-TTL:PT1H
BEGIN:VTIMEZONE
TZID:America/New_York
BEGIN:DAYLIGHT
TZOFFSETFROM:-0500
TZOFFSETTO:-0400
TZNAME:EDT
DTSTART:20130310T070000
END:DAYLIGHT
BEGIN:STANDARD
TZOFFSETFROM:-0400
TZOFFSETTO:-0500
TZNAME:EST
DTSTART:20131103T060000
END:STANDARD
BEGIN:DAYLIGHT
TZOFFSETFROM:-0500
TZOFFSETTO:-0400
TZNAME:EDT
DTSTART:20140309T070000
END:DAYLIGHT
BEGIN:STANDARD
TZOFFSETFROM:-0400
TZOFFSETTO:-0500
TZNAME:EST
DTSTART:20141102T060000
END:STANDARD
BEGIN:DAYLIGHT
TZOFFSETFROM:-0500
TZOFFSETTO:-0400
TZNAME:EDT
DTSTART:20150308T070000
END:DAYLIGHT
BEGIN:STANDARD
TZOFFSETFROM:-0400
TZOFFSETTO:-0500
TZNAME:EST
DTSTART:20151101T060000
END:STANDARD
END:VTIMEZONE
BEGIN:VEVENT
DTSTART;TZID=America/New_York:20140815T040000
DTEND;TZID=America/New_York:20140815T130000
DTSTAMP:20260423T152051
CREATED:20140814T042335Z
LAST-MODIFIED:20140814T200751Z
UID:7906-1408075200-1408107600@belmontart.org
SUMMARY:CALL FOR ARTISTS deadline - Green Line Extension Art Project
DESCRIPTION:CALL FOR BOSTON AREA ARTISTS In conjunction with the Massachusetts Bay Transportation Authority (MBTA)\, the Somerville\, Medford and Cambridge Arts Councils will commission multiple artists to design an integrated art program for the Green Line Extension stations. Deadline: Aug. 15
URL:https://belmontart.org/calendar/call-for-artists-green-line-extension-art-project/
LOCATION:MA
CATEGORIES:Call for Artists | Call for Entries
END:VEVENT
END:VCALENDAR