BEGIN:VCALENDAR
VERSION:2.0
PRODID:-//Belmont Art Association - ECPv6.15.18//NONSGML v1.0//EN
CALSCALE:GREGORIAN
METHOD:PUBLISH
X-WR-CALNAME:Belmont Art Association
X-ORIGINAL-URL:https://belmontart.org
X-WR-CALDESC:Events for Belmont Art Association
REFRESH-INTERVAL;VALUE=DURATION:PT1H
X-Robots-Tag:noindex
X-PUBLISHED-TTL:PT1H
BEGIN:VTIMEZONE
TZID:America/New_York
BEGIN:DAYLIGHT
TZOFFSETFROM:-0500
TZOFFSETTO:-0400
TZNAME:EDT
DTSTART:20150308T070000
END:DAYLIGHT
BEGIN:STANDARD
TZOFFSETFROM:-0400
TZOFFSETTO:-0500
TZNAME:EST
DTSTART:20151101T060000
END:STANDARD
BEGIN:DAYLIGHT
TZOFFSETFROM:-0500
TZOFFSETTO:-0400
TZNAME:EDT
DTSTART:20160313T070000
END:DAYLIGHT
BEGIN:STANDARD
TZOFFSETFROM:-0400
TZOFFSETTO:-0500
TZNAME:EST
DTSTART:20161106T060000
END:STANDARD
BEGIN:DAYLIGHT
TZOFFSETFROM:-0500
TZOFFSETTO:-0400
TZNAME:EDT
DTSTART:20170312T070000
END:DAYLIGHT
BEGIN:STANDARD
TZOFFSETFROM:-0400
TZOFFSETTO:-0500
TZNAME:EST
DTSTART:20171105T060000
END:STANDARD
END:VTIMEZONE
BEGIN:VEVENT
DTSTART;TZID=America/New_York:20160629T110000
DTEND;TZID=America/New_York:20160629T140000
DTSTAMP:20260424T215948
CREATED:20160624T043718Z
LAST-MODIFIED:20160715T194016Z
UID:9171-1467198000-1467208800@belmontart.org
SUMMARY:Finishing the Community Mural
DESCRIPTION:Final touches being painted\nWed.\, June 29\, 3-6pm\nThe Community Mural is nearly complete. It’s already on the exterior wall of the Studio Cinema in Belmont and looks so cool! Several BAA members will be painting the finishing touches. Feel free to join us or swing by to say hello! \nSeveral panels of the mural.
URL:https://belmontart.org/calendar/finishing-the-community-mural/
LOCATION:Belmont Studio Cinema\, 376 Trapelo Rd.\, Belmont\, MA\, 02478\, United States
CATEGORIES:BAA Members Events,General Events
END:VEVENT
END:VCALENDAR