BEGIN:VCALENDAR
VERSION:2.0
PRODID:-//Belmont Art Association - ECPv6.15.18//NONSGML v1.0//EN
CALSCALE:GREGORIAN
METHOD:PUBLISH
X-WR-CALNAME:Belmont Art Association
X-ORIGINAL-URL:https://belmontart.org
X-WR-CALDESC:Events for Belmont Art Association
REFRESH-INTERVAL;VALUE=DURATION:PT1H
X-Robots-Tag:noindex
X-PUBLISHED-TTL:PT1H
BEGIN:VTIMEZONE
TZID:America/New_York
BEGIN:DAYLIGHT
TZOFFSETFROM:-0500
TZOFFSETTO:-0400
TZNAME:EDT
DTSTART:20150308T070000
END:DAYLIGHT
BEGIN:STANDARD
TZOFFSETFROM:-0400
TZOFFSETTO:-0500
TZNAME:EST
DTSTART:20151101T060000
END:STANDARD
BEGIN:DAYLIGHT
TZOFFSETFROM:-0500
TZOFFSETTO:-0400
TZNAME:EDT
DTSTART:20160313T070000
END:DAYLIGHT
BEGIN:STANDARD
TZOFFSETFROM:-0400
TZOFFSETTO:-0500
TZNAME:EST
DTSTART:20161106T060000
END:STANDARD
BEGIN:DAYLIGHT
TZOFFSETFROM:-0500
TZOFFSETTO:-0400
TZNAME:EDT
DTSTART:20170312T070000
END:DAYLIGHT
BEGIN:STANDARD
TZOFFSETFROM:-0400
TZOFFSETTO:-0500
TZNAME:EST
DTSTART:20171105T060000
END:STANDARD
END:VTIMEZONE
BEGIN:VEVENT
DTSTART;TZID=America/New_York:20160524T140000
DTEND;TZID=America/New_York:20160524T170000
DTSTAMP:20260424T234735
CREATED:20160511T040817Z
LAST-MODIFIED:20160511T041651Z
UID:9141-1464098400-1464109200@belmontart.org
SUMMARY:BAA Members Meeting - May 2016
DESCRIPTION:Paint-In / Meeting change\nStacey Hammerlind has been coordinating a community mural that will be installed near the Belmont Cinema.  It is ALMOST done but she needs some artists to help with the faces.  The BAA has volunteered our talented members to come and help finish it.  The mural is currently located in the basement of St. Joseph Church\, but now it has to leave.  PLEASE come help finish the mural.  If you don’t want to paint\, please come and cheer us on. It will be a great party!  Pizza will be provided.  Members can bring snacks and drinks too. \nSo our next meeting has changed location to:  St. Joseph’s Parish.\nGo to the back door\, then down the stairs to find us!
URL:https://belmontart.org/calendar/baa-members-meeting-may-2016/
LOCATION:St. Joseph Parish\, 130 Common St. \, Belmont\, MA\, 02478\, United States
CATEGORIES:BAA Events,BAA Members Events
END:VEVENT
END:VCALENDAR