BEGIN:VCALENDAR
VERSION:2.0
PRODID:-//Belmont Art Association - ECPv6.15.18//NONSGML v1.0//EN
CALSCALE:GREGORIAN
METHOD:PUBLISH
X-WR-CALNAME:Belmont Art Association
X-ORIGINAL-URL:https://belmontart.org
X-WR-CALDESC:Events for Belmont Art Association
REFRESH-INTERVAL;VALUE=DURATION:PT1H
X-Robots-Tag:noindex
X-PUBLISHED-TTL:PT1H
BEGIN:VTIMEZONE
TZID:America/New_York
BEGIN:DAYLIGHT
TZOFFSETFROM:-0500
TZOFFSETTO:-0400
TZNAME:EDT
DTSTART:20150308T070000
END:DAYLIGHT
BEGIN:STANDARD
TZOFFSETFROM:-0400
TZOFFSETTO:-0500
TZNAME:EST
DTSTART:20151101T060000
END:STANDARD
BEGIN:DAYLIGHT
TZOFFSETFROM:-0500
TZOFFSETTO:-0400
TZNAME:EDT
DTSTART:20160313T070000
END:DAYLIGHT
BEGIN:STANDARD
TZOFFSETFROM:-0400
TZOFFSETTO:-0500
TZNAME:EST
DTSTART:20161106T060000
END:STANDARD
BEGIN:DAYLIGHT
TZOFFSETFROM:-0500
TZOFFSETTO:-0400
TZNAME:EDT
DTSTART:20170312T070000
END:DAYLIGHT
BEGIN:STANDARD
TZOFFSETFROM:-0400
TZOFFSETTO:-0500
TZNAME:EST
DTSTART:20171105T060000
END:STANDARD
END:VTIMEZONE
BEGIN:VEVENT
DTSTART;TZID=America/New_York:20160923T060000
DTEND;TZID=America/New_York:20161120T110000
DTSTAMP:20260423T003703
CREATED:20160812T205536Z
LAST-MODIFIED:20160812T205558Z
UID:9191-1474610400-1479639600@belmontart.org
SUMMARY:Voices Surface
DESCRIPTION:A Collage Themed Exhibit\n“Voices Surface” will feature three area artists: Anne Johnstone\, (and Belmont Art Association members) Helen Canetta and Carol Wintle. \nReception: Fri.\, Sept. 23\, 7-9pm \nStay tuned for details!
URL:https://belmontart.org/calendar/voices-surface/
LOCATION:Belmont Gallery of Art\, Town Hall Complex\, Homer Municipal Building; 19 Moore St\, 3rd floor\, Belmont Center\, MA\, 02478\, United States
CATEGORIES:Art Shows | Exhibits,BAA Members Events
END:VEVENT
BEGIN:VEVENT
DTSTART;TZID=America/New_York:20161106T080000
DTEND;TZID=America/New_York:20161106T110000
DTSTAMP:20260423T003703
CREATED:20161103T031721Z
LAST-MODIFIED:20161103T031721Z
UID:9286-1478419200-1478430000@belmontart.org
SUMMARY:Collage and Story-Making - Carol Wintle
DESCRIPTION:Pink Afternoon\, by Carol Wintle\n“Pink Afternoon”\na free\, fun\, intergenerational\, hands-on event\nall ages welcome (children\, teens\, younger & older adults)\nWhen: November 6\, 2016\, 1-4 pm\, Drop in any time\nWhere: Belmont Gallery of Art \nGallery Open: 1:00-4:00pm\nView the exhibit “Voices Surface” of three artists: Carol Wintle\, Helen Canetta\, & Anne Johnstone’s mixed media collages. Do early holiday shopping in a relaxed atmosphere. Some art is priced as low as $100. \nCollage-making: 1:30-3:30pm\nMake a collage. Artist Carol Wintle will be available for guidance. All materials will be provided\, (feel free to bring your own). Kits are available containing (4”x6” artist card\, non-archival glue stick & scissors). Plenty of paper visuals\, markers\, crayons etc. will also be available. Use the 3 artist’s collage styles\, in the “Voices Surface” show\, to inspire your own creation. Take your time. Bring your unique\, homemade 4”x6” collage home with you. \nGift Certificates: 2:00\, 2:30\, 3:00\, & 3:30pm\nEvery 30 minutes someone will win a gift certificate from one of our sponsors: Susanna (clothing store for women); Sterling Cleaners\, 2323 Salon/Lulu’s Kids Cuts\, art items from Play Time\, and private art lessons from Carol Wintle & Helen Canetta. \nConversations with artist Carol Wintle\, story creating: 1:30–3:30pm\nArtist Carol Wintle will be available to converse with people about collage-making and to co-create stories from visual art.
URL:https://belmontart.org/calendar/collage-and-story-making-carol-wintle/
LOCATION:Belmont Gallery of Art\, Town Hall Complex\, Homer Municipal Building; 19 Moore St\, 3rd floor\, Belmont Center\, MA\, 02478\, United States
CATEGORIES:Artist Talks,BAA Members Events
END:VEVENT
BEGIN:VEVENT
DTSTART;TZID=America/New_York:20161118T070000
DTEND;TZID=America/New_York:20161230T130000
DTSTAMP:20260423T003703
CREATED:20161119T004513Z
LAST-MODIFIED:20161119T010341Z
UID:9339-1479452400-1483102800@belmontart.org
SUMMARY:Mosesian Center Small Works Show 2016
DESCRIPTION:BAA member\, Carol Wintle\, is showing art in the annual small works exhibit at the Mosesian Center for the Arts (formerly known as Arsenal Center for the Arts). \nGallery Hours: Tue-Sun\, 12-6pm
URL:https://belmontart.org/calendar/mosesian-center-small-works-show-2016/
LOCATION:Mosesian Center for the Arts\, 321 Arsenal St.\, Watertown\, MA\, 02472\, United States
CATEGORIES:Art Shows | Exhibits,BAA Members Events
END:VEVENT
BEGIN:VEVENT
DTSTART;TZID=America/New_York:20161120T080000
DTEND;TZID=America/New_York:20161120T110000
DTSTAMP:20260423T003703
CREATED:20161113T051243Z
LAST-MODIFIED:20161113T051536Z
UID:9330-1479628800-1479639600@belmontart.org
SUMMARY:Collage and Story-Making (#2) - Carol Wintle
DESCRIPTION:Pink Afternoon\, by Carol Wintle\n“Pink Afternoon #2”\na free\, fun\, intergenerational\, hands-on event\nall ages welcome (children\, teens\, younger & older adults)\nWhen: November 20\, 2016\, 1-4 pm\nDrop in anytime to this casual\, fun art-making afternoon\nWhat: Collage & Story Making \nGallery Open: 1:00-4:00pm\nView the exhibit “Voices Surface” of three artists: Carol Wintle\, Helen Canetta\, & Anne Johnstone’s mixed media collages. Do early holiday shopping in a relaxed atmosphere. Some art is priced as low as $100. \nCollage-making and Conversation: 1:30-3:30pm\nMake a collage. Artist Carol Wintle will be available for guidance. All materials will be provided\, (feel free to bring your own). Kits are available containing (4”x6” artist card\, non-archival glue stick & scissors). Plenty of paper visuals\, markers\, crayons etc. will also be available. Use the 3 artist’s collage styles\, in the “Voices Surface” show\, to inspire your own creation. Take your time. Bring your unique\, homemade 4”x6” collage home with you. \nGift Certificate Drawings for Workshop Attendees!\nThroughout the afternoon drawings for Gift Certificates from local sponsors\, including Susanna clothing for women\, Sterling Cleaners\, 2323 Salon/Lulu’s Kids Cuts\, and a private art lesson from mixed media collage artists Carol Wintle and Helen Canetta will be awarded to several lucky attendees.
URL:https://belmontart.org/calendar/collage-and-story-making-2-carol-wintle/
LOCATION:Belmont Gallery of Art\, Town Hall Complex\, Homer Municipal Building; 19 Moore St\, 3rd floor\, Belmont Center\, MA\, 02478\, United States
CATEGORIES:Artist Talks,BAA Members Events,Classes, Programs, Workshops
END:VEVENT
END:VCALENDAR