BEGIN:VCALENDAR
VERSION:2.0
PRODID:-//Belmont Art Association - ECPv6.15.18//NONSGML v1.0//EN
CALSCALE:GREGORIAN
METHOD:PUBLISH
X-WR-CALNAME:Belmont Art Association
X-ORIGINAL-URL:https://belmontart.org
X-WR-CALDESC:Events for Belmont Art Association
REFRESH-INTERVAL;VALUE=DURATION:PT1H
X-Robots-Tag:noindex
X-PUBLISHED-TTL:PT1H
BEGIN:VTIMEZONE
TZID:America/New_York
BEGIN:DAYLIGHT
TZOFFSETFROM:-0500
TZOFFSETTO:-0400
TZNAME:EDT
DTSTART:20150308T070000
END:DAYLIGHT
BEGIN:STANDARD
TZOFFSETFROM:-0400
TZOFFSETTO:-0500
TZNAME:EST
DTSTART:20151101T060000
END:STANDARD
BEGIN:DAYLIGHT
TZOFFSETFROM:-0500
TZOFFSETTO:-0400
TZNAME:EDT
DTSTART:20160313T070000
END:DAYLIGHT
BEGIN:STANDARD
TZOFFSETFROM:-0400
TZOFFSETTO:-0500
TZNAME:EST
DTSTART:20161106T060000
END:STANDARD
BEGIN:DAYLIGHT
TZOFFSETFROM:-0500
TZOFFSETTO:-0400
TZNAME:EDT
DTSTART:20170312T070000
END:DAYLIGHT
BEGIN:STANDARD
TZOFFSETFROM:-0400
TZOFFSETTO:-0500
TZNAME:EST
DTSTART:20171105T060000
END:STANDARD
END:VTIMEZONE
BEGIN:VEVENT
DTSTART;TZID=America/New_York:20160421T080000
DTEND;TZID=America/New_York:20160610T140000
DTSTAMP:20260423T091314
CREATED:20160505T014806Z
LAST-MODIFIED:20160505T015758Z
UID:9138-1461225600-1465567200@belmontart.org
SUMMARY:Carol Wintle - ACA Members' Show
DESCRIPTION:Carol Wintle’s mixed media piece\, “Underwater 1”\, is in the Arsenal Center for the Arts members show. \nThomas A. Pannesi Lobby (1st Floor)\nWatertown Savings Bank Gallery (2nd Floor) \nOpening Reception: Thursday\, April 28\, 5:30-7:30pm \nGallery Hours: Tue-Sun 12-6pm
URL:https://belmontart.org/calendar/carol-wintle-aca-members-show/
LOCATION:Mosesian Center for the Arts\, 321 Arsenal St.\, Watertown\, MA\, 02472\, United States
CATEGORIES:Art Shows | Exhibits,BAA Members Events
END:VEVENT
END:VCALENDAR