BEGIN:VCALENDAR
VERSION:2.0
PRODID:-//Belmont Art Association - ECPv6.15.18//NONSGML v1.0//EN
CALSCALE:GREGORIAN
METHOD:PUBLISH
X-ORIGINAL-URL:https://belmontart.org
X-WR-CALDESC:Events for Belmont Art Association
REFRESH-INTERVAL;VALUE=DURATION:PT1H
X-Robots-Tag:noindex
X-PUBLISHED-TTL:PT1H
BEGIN:VTIMEZONE
TZID:America/New_York
BEGIN:DAYLIGHT
TZOFFSETFROM:-0500
TZOFFSETTO:-0400
TZNAME:EDT
DTSTART:20140309T070000
END:DAYLIGHT
BEGIN:STANDARD
TZOFFSETFROM:-0400
TZOFFSETTO:-0500
TZNAME:EST
DTSTART:20141102T060000
END:STANDARD
BEGIN:DAYLIGHT
TZOFFSETFROM:-0500
TZOFFSETTO:-0400
TZNAME:EDT
DTSTART:20150308T070000
END:DAYLIGHT
BEGIN:STANDARD
TZOFFSETFROM:-0400
TZOFFSETTO:-0500
TZNAME:EST
DTSTART:20151101T060000
END:STANDARD
BEGIN:DAYLIGHT
TZOFFSETFROM:-0500
TZOFFSETTO:-0400
TZNAME:EDT
DTSTART:20160313T070000
END:DAYLIGHT
BEGIN:STANDARD
TZOFFSETFROM:-0400
TZOFFSETTO:-0500
TZNAME:EST
DTSTART:20161106T060000
END:STANDARD
END:VTIMEZONE
BEGIN:VEVENT
DTSTART;TZID=America/New_York:20150611T060000
DTEND;TZID=America/New_York:20150828T140000
DTSTAMP:20260424T051425
CREATED:20150515T055411Z
LAST-MODIFIED:20150515T055411Z
UID:8744-1434002400-1440770400@belmontart.org
SUMMARY:Carol Wintle - More Than Words
DESCRIPTION:An Illustration Exhibition\nBAA member\, Carol Wintle\, has artwork in this exhibit. \nHours: Tuesdays – Sundays\, 10-6
URL:https://belmontart.org/calendar/carol-wintle-more-than-words/
LOCATION:Mosesian Center for the Arts\, 321 Arsenal St.\, Watertown\, MA\, 02472\, United States
CATEGORIES:Art Shows | Exhibits,BAA Members Events
END:VEVENT
BEGIN:VEVENT
DTSTART;TZID=America/New_York:20150716T141500
DTEND;TZID=America/New_York:20150716T154500
DTSTAMP:20260424T051425
CREATED:20150703T225910Z
LAST-MODIFIED:20150709T205920Z
UID:8789-1437056100-1437061500@belmontart.org
SUMMARY:Carol Wintle - Mixed Media Class - July 16
DESCRIPTION:©2013 Carol Wintle\nMixed Media & Mindfulness classes led by Carol Wintle\nWhere: Arlington\, MA (near the Arlington Public Library) \nWhen: 6:15-7:45 Thursday evenings in July & August\, 2015 \nWho: Anyone interested in creating collage and experiencing facilitated mindfulness. \nHow: Participants can attend any one or all 6 sessions. All materials are provided. \nCost: $20-40 per session (sliding scale) \nYou are invited to create mixed media art involving a combination of five elements: people\, places\, animals\, words & things. \nMindfulness is awareness without criticism or judgment. It helps us manage worries\, deal with our emotions\, cope better with stress\, and get along better with others. Mindfulness helps increase peace and well being. Each session will be structured around five mindfulness techniques; deep breathing\, deep listening\, radical acceptance\, gratitude and letting go. \n\nCarol Wintle\, BAA member\, is a mixed media artist. Her work has been shown in 33 exhibits since 2009. It can be viewed at www.artbywintle.com. Carol is a mindfulness-based psychotherapist who has 30 years experience as a psychotherapist and 15 years experience as a mindfulness practitioner. \nFor more information and to pre-register: call Carol Wintle\, 617-823-7070.
URL:https://belmontart.org/calendar/carol-wintle-mixed-media-classes-july-16/
CATEGORIES:BAA Members Events,Classes, Programs, Workshops
END:VEVENT
BEGIN:VEVENT
DTSTART;TZID=America/New_York:20150723T141500
DTEND;TZID=America/New_York:20150723T154500
DTSTAMP:20260424T051425
CREATED:20150703T231224Z
LAST-MODIFIED:20150709T210036Z
UID:8792-1437660900-1437666300@belmontart.org
SUMMARY:Carol Wintle - Mixed Media Class - July 23
DESCRIPTION:©2013 Carol Wintle\nMixed Media & Mindfulness classes led by Carol Wintle\nWhere: Arlington\, MA (near the Arlington Public Library) \nWhen: 6:15-7:45 Thursday evenings in July & August\, 2015 \nWho: Anyone interested in creating collage and experiencing facilitated mindfulness. \nHow: Participants can attend any one or all 6 sessions. All materials are provided. \nCost: $20-40 per session (sliding scale) \nYou are invited to create mixed media art involving a combination of five elements: people\, places\, animals\, words & things. \nMindfulness is awareness without criticism or judgment. It helps us manage worries\, deal with our emotions\, cope better with stress\, and get along better with others. Mindfulness helps increase peace and well being. Each session will be structured around five mindfulness techniques; deep breathing\, deep listening\, radical acceptance\, gratitude and letting go. \n\nCarol Wintle\, BAA member\, is a mixed media artist. Her work has been shown in 33 exhibits since 2009. It can be viewed at www.artbywintle.com. Carol is a mindfulness-based psychotherapist who has 30 years experience as a psychotherapist and 15 years experience as a mindfulness practitioner. \nFor more information and to pre-register: call Carol Wintle\, 617-823-7070.
URL:https://belmontart.org/calendar/carol-wintle-mixed-media-class-july-23/
CATEGORIES:BAA Members Events,Classes, Programs, Workshops
END:VEVENT
BEGIN:VEVENT
DTSTART;TZID=America/New_York:20150730T141500
DTEND;TZID=America/New_York:20150730T154500
DTSTAMP:20260424T051425
CREATED:20150703T231401Z
LAST-MODIFIED:20150709T210124Z
UID:8793-1438265700-1438271100@belmontart.org
SUMMARY:Carol Wintle - Mixed Media Class - July 30
DESCRIPTION:©2013 Carol Wintle\nMixed Media & Mindfulness classes led by Carol Wintle\nWhere: Arlington\, MA (near the Arlington Public Library) \nWhen: 6:15-7:45 Thursday evenings in July & August\, 2015 \nWho: Anyone interested in creating collage and experiencing facilitated mindfulness. \nHow: Participants can attend any one or all 6 sessions. All materials are provided. \nCost: $20-40 per session (sliding scale) \nYou are invited to create mixed media art involving a combination of five elements: people\, places\, animals\, words & things. \nMindfulness is awareness without criticism or judgment. It helps us manage worries\, deal with our emotions\, cope better with stress\, and get along better with others. Mindfulness helps increase peace and well being. Each session will be structured around five mindfulness techniques; deep breathing\, deep listening\, radical acceptance\, gratitude and letting go. \n\nCarol Wintle\, BAA member\, is a mixed media artist. Her work has been shown in 33 exhibits since 2009. It can be viewed at www.artbywintle.com. Carol is a mindfulness-based psychotherapist who has 30 years experience as a psychotherapist and 15 years experience as a mindfulness practitioner. \nFor more information and to pre-register: call Carol Wintle\, 617-823-7070.
URL:https://belmontart.org/calendar/carol-wintle-mixed-media-class-july-30/
CATEGORIES:BAA Members Events,Classes, Programs, Workshops
END:VEVENT
END:VCALENDAR