BEGIN:VCALENDAR
VERSION:2.0
PRODID:-//Belmont Art Association - ECPv6.15.18//NONSGML v1.0//EN
CALSCALE:GREGORIAN
METHOD:PUBLISH
X-WR-CALNAME:Belmont Art Association
X-ORIGINAL-URL:https://belmontart.org
X-WR-CALDESC:Events for Belmont Art Association
REFRESH-INTERVAL;VALUE=DURATION:PT1H
X-Robots-Tag:noindex
X-PUBLISHED-TTL:PT1H
BEGIN:VTIMEZONE
TZID:America/New_York
BEGIN:DAYLIGHT
TZOFFSETFROM:-0500
TZOFFSETTO:-0400
TZNAME:EDT
DTSTART:20140309T070000
END:DAYLIGHT
BEGIN:STANDARD
TZOFFSETFROM:-0400
TZOFFSETTO:-0500
TZNAME:EST
DTSTART:20141102T060000
END:STANDARD
BEGIN:DAYLIGHT
TZOFFSETFROM:-0500
TZOFFSETTO:-0400
TZNAME:EDT
DTSTART:20150308T070000
END:DAYLIGHT
BEGIN:STANDARD
TZOFFSETFROM:-0400
TZOFFSETTO:-0500
TZNAME:EST
DTSTART:20151101T060000
END:STANDARD
BEGIN:DAYLIGHT
TZOFFSETFROM:-0500
TZOFFSETTO:-0400
TZNAME:EDT
DTSTART:20160313T070000
END:DAYLIGHT
BEGIN:STANDARD
TZOFFSETFROM:-0400
TZOFFSETTO:-0500
TZNAME:EST
DTSTART:20161106T060000
END:STANDARD
END:VTIMEZONE
BEGIN:VEVENT
DTSTART;TZID=America/New_York:20150416T040000
DTEND;TZID=America/New_York:20150527T130000
DTSTAMP:20260424T083104
CREATED:20150426T010308Z
LAST-MODIFIED:20150426T010308Z
UID:8699-1429156800-1432731600@belmontart.org
SUMMARY:Carol Wintle - Arsenal Ctr. for Arts Members Show 2015
DESCRIPTION:Carol Wintle\, mixed media artist\, is exhibiting her work in the Arsenal Ctr. for the Arts Members Show \nThis show is the center’s longest running and most applied-to annual exhibition featuring the artwork of arsenalARTS members. The juried exhibition showcases a large variety of work in 2D and 3D forms. \nShow Duration:\nApril 16 – May 27\, 2015\nThomas A. Pannesi Lobby (1st Floor)\nWatertown Savings Bank Gallery (2nd Floor) \nOpening Reception: Thursday\, April 30\, 5:30-7:30pm \nhttp://arsenalarts.org/visual/#Members%E2%80%99%20Show%202015 \n 
URL:https://belmontart.org/calendar/carol-wintle-arsenal-ctr-for-arts-members-show-2015/
CATEGORIES:Art Shows | Exhibits,BAA Members Events
END:VEVENT
BEGIN:VEVENT
DTSTART;TZID=America/New_York:20150501T050000
DTEND;TZID=America/New_York:20150630T170000
DTSTAMP:20260424T083104
CREATED:20150426T004342Z
LAST-MODIFIED:20150426T005454Z
UID:8696-1430456400-1435683600@belmontart.org
SUMMARY:BAA Exhibit at Belmont Public Library
DESCRIPTION:“Mary’s Farm”\, pastel\, © 2010 Anne S. Katzeff\nThanks to the efforts of Erika Hartwieg\, the Belmont Art Association will have ongoing exhibits at the Belmont Public Library! \nParticipating BAA members for the month of May:\nMathilde Duffy (drawings\, painting\, photographs)\, Richard Hill (oil and acrylic paintings)\, Anne Katzeff (pastel paintings)\, Dari Paquette (watercolors)\, Ian Todreas (watercolors)\, Carole Wintle (mixed media) \nLibrary Hours:\nMonday through Saturday – 9am to 9pm. Sundays – 1pm to 5pm
URL:https://belmontart.org/calendar/baa-exhibit-at-belmont-public-library/
LOCATION:Belmont Public Library\, 336 Concord Ave.\, Belmont\, MA\, 02478\, United States
CATEGORIES:Art Shows | Exhibits,BAA Events,BAA Members Events
END:VEVENT
BEGIN:VEVENT
DTSTART;TZID=America/New_York:20150501T070000
DTEND;TZID=America/New_York:20150606T130000
DTSTAMP:20260424T083104
CREATED:20150426T011335Z
LAST-MODIFIED:20150426T011424Z
UID:8700-1430463600-1433595600@belmontart.org
SUMMARY:Carol Wintle - Newburyport Art Association Annual Show 2015
DESCRIPTION:Carol Wintle\, mixed media artist\, is exhibiting her work in the Newburyport Art Association’s 18th Annual Regional Juried Show. \nJuror: Kaveh Mojtabai\, Publisher\, Artscope Magazine \nShow Duration: May 1 – June 6\, 2015 \nReception & Awards Presentation: Sunday\, May 3\, 2-4 pm – free & open to the public \nGallery Hours:  Tuesday – Saturday\, 11 am – 5 pm and Sunday\, 1-5 pm. Closed on Monday.
URL:https://belmontart.org/calendar/carol-wintle-newburyport-art-association-annual-show-2015/
LOCATION:Newburyport Art Association\, 65 Water Street\, Newburyport\, MA\, 01950\, United States
CATEGORIES:Art Shows | Exhibits,BAA Members Events
END:VEVENT
END:VCALENDAR