BEGIN:VCALENDAR
VERSION:2.0
PRODID:-//Belmont Art Association - ECPv6.15.18//NONSGML v1.0//EN
CALSCALE:GREGORIAN
METHOD:PUBLISH
X-WR-CALNAME:Belmont Art Association
X-ORIGINAL-URL:https://belmontart.org
X-WR-CALDESC:Events for Belmont Art Association
REFRESH-INTERVAL;VALUE=DURATION:PT1H
X-Robots-Tag:noindex
X-PUBLISHED-TTL:PT1H
BEGIN:VTIMEZONE
TZID:America/New_York
BEGIN:DAYLIGHT
TZOFFSETFROM:-0500
TZOFFSETTO:-0400
TZNAME:EDT
DTSTART:20150308T070000
END:DAYLIGHT
BEGIN:STANDARD
TZOFFSETFROM:-0400
TZOFFSETTO:-0500
TZNAME:EST
DTSTART:20151101T060000
END:STANDARD
BEGIN:DAYLIGHT
TZOFFSETFROM:-0500
TZOFFSETTO:-0400
TZNAME:EDT
DTSTART:20160313T070000
END:DAYLIGHT
BEGIN:STANDARD
TZOFFSETFROM:-0400
TZOFFSETTO:-0500
TZNAME:EST
DTSTART:20161106T060000
END:STANDARD
BEGIN:DAYLIGHT
TZOFFSETFROM:-0500
TZOFFSETTO:-0400
TZNAME:EDT
DTSTART:20170312T070000
END:DAYLIGHT
BEGIN:STANDARD
TZOFFSETFROM:-0400
TZOFFSETTO:-0500
TZNAME:EST
DTSTART:20171105T060000
END:STANDARD
END:VTIMEZONE
BEGIN:VEVENT
DTSTART;TZID=America/New_York:20160201T070000
DTEND;TZID=America/New_York:20160201T070000
DTSTAMP:20260425T093909
CREATED:20151209T221650Z
LAST-MODIFIED:20151209T221914Z
UID:9009-1454310000-1454310000@belmontart.org
SUMMARY:CALL FOR ENTRIES: Boston Biennial 2016
DESCRIPTION:The Boston Biennial 2016 is currently accepting entries. If selected by the jurors for inclusion in the BB4\, your work will be displayed on a digital projection for the entire month of April 2016 at the BB4’s primary venue\, Atlantic Works Gallery\, a member-run collective and artist community  \nSubmissions due by Feb 1\, 2016\, at 12pm\nEarly Bird Submissions due by Dec. 31\, 2015\nIf your entry is completed by 12/31/15\, you will benefit form the Early Bird Special Entry Fee of $30 for 3 entries\, and $5 for each additional entry!\nAfter 12/31/15 the entry price will go up $5.
URL:https://belmontart.org/calendar/call-for-entries-boston-biennial-2016/
LOCATION:Atlantic Works Gallery\, 80 Border Street\, East Boston\, MA\, 02128\, United States
CATEGORIES:Call for Artists | Call for Entries
END:VEVENT
END:VCALENDAR