BEGIN:VCALENDAR
VERSION:2.0
PRODID:-//Belmont Art Association - ECPv6.15.18//NONSGML v1.0//EN
CALSCALE:GREGORIAN
METHOD:PUBLISH
X-ORIGINAL-URL:https://belmontart.org
X-WR-CALDESC:Events for Belmont Art Association
REFRESH-INTERVAL;VALUE=DURATION:PT1H
X-Robots-Tag:noindex
X-PUBLISHED-TTL:PT1H
BEGIN:VTIMEZONE
TZID:America/New_York
BEGIN:DAYLIGHT
TZOFFSETFROM:-0500
TZOFFSETTO:-0400
TZNAME:EDT
DTSTART:20170312T070000
END:DAYLIGHT
BEGIN:STANDARD
TZOFFSETFROM:-0400
TZOFFSETTO:-0500
TZNAME:EST
DTSTART:20171105T060000
END:STANDARD
BEGIN:DAYLIGHT
TZOFFSETFROM:-0500
TZOFFSETTO:-0400
TZNAME:EDT
DTSTART:20180311T070000
END:DAYLIGHT
BEGIN:STANDARD
TZOFFSETFROM:-0400
TZOFFSETTO:-0500
TZNAME:EST
DTSTART:20181104T060000
END:STANDARD
BEGIN:DAYLIGHT
TZOFFSETFROM:-0500
TZOFFSETTO:-0400
TZNAME:EDT
DTSTART:20190310T070000
END:DAYLIGHT
BEGIN:STANDARD
TZOFFSETFROM:-0400
TZOFFSETTO:-0500
TZNAME:EST
DTSTART:20191103T060000
END:STANDARD
END:VTIMEZONE
BEGIN:VEVENT
DTSTART;TZID=America/New_York:20180417T150000
DTEND;TZID=America/New_York:20180417T170000
DTSTAMP:20260424T093815
CREATED:20180417T045954Z
LAST-MODIFIED:20180417T050143Z
UID:10059-1523977200-1523984400@belmontart.org
SUMMARY:BAA Members Meeting - April 2018
DESCRIPTION:Next members’ meeting\nWHERE: E. C. Benton Library\n75 Oakley Rd.\, Belmont \nWHEN: Tuesday\, 4/17/18\, 7pm\n– Please try to carpool\, walk\, or avoid parking in driveways as neighbors are sensitive to excessive traffic in their ‘hood.\n– Feel free to bring nibbles to share \nAGENDA\n\ndiscuss further exhibition possibilities and plan workshops\, plus thoughts about a June event.\nReview of woodcarving workshop\n\nMEETING SCHEDULE\nMeetings generally take place on the 3rd Tuesday of every month. The next several meetings will take place at different locations. Addresses will be emailed to BAA members.
URL:https://belmontart.org/calendar/baa-members-meeting-april-2018/
LOCATION:Benton Library\, 75 Oakley Rd.\, Belmont\, MA\, 02478\, United States
CATEGORIES:BAA Events
END:VEVENT
END:VCALENDAR