BEGIN:VCALENDAR
VERSION:2.0
PRODID:-//Belmont Art Association - ECPv6.15.18//NONSGML v1.0//EN
CALSCALE:GREGORIAN
METHOD:PUBLISH
X-ORIGINAL-URL:https://belmontart.org
X-WR-CALDESC:Events for Belmont Art Association
REFRESH-INTERVAL;VALUE=DURATION:PT1H
X-Robots-Tag:noindex
X-PUBLISHED-TTL:PT1H
BEGIN:VTIMEZONE
TZID:America/New_York
BEGIN:DAYLIGHT
TZOFFSETFROM:-0500
TZOFFSETTO:-0400
TZNAME:EDT
DTSTART:20190310T070000
END:DAYLIGHT
BEGIN:STANDARD
TZOFFSETFROM:-0400
TZOFFSETTO:-0500
TZNAME:EST
DTSTART:20191103T060000
END:STANDARD
BEGIN:DAYLIGHT
TZOFFSETFROM:-0500
TZOFFSETTO:-0400
TZNAME:EDT
DTSTART:20200308T070000
END:DAYLIGHT
BEGIN:STANDARD
TZOFFSETFROM:-0400
TZOFFSETTO:-0500
TZNAME:EST
DTSTART:20201101T060000
END:STANDARD
BEGIN:DAYLIGHT
TZOFFSETFROM:-0500
TZOFFSETTO:-0400
TZNAME:EDT
DTSTART:20210314T070000
END:DAYLIGHT
BEGIN:STANDARD
TZOFFSETFROM:-0400
TZOFFSETTO:-0500
TZNAME:EST
DTSTART:20211107T060000
END:STANDARD
BEGIN:DAYLIGHT
TZOFFSETFROM:-0500
TZOFFSETTO:-0400
TZNAME:EDT
DTSTART:20220313T070000
END:DAYLIGHT
BEGIN:STANDARD
TZOFFSETFROM:-0400
TZOFFSETTO:-0500
TZNAME:EST
DTSTART:20221106T060000
END:STANDARD
END:VTIMEZONE
BEGIN:VEVENT
DTSTART;TZID=America/New_York:20201209T080000
DTEND;TZID=America/New_York:20210131T170000
DTSTAMP:20260424T100848
CREATED:20201210T003540Z
LAST-MODIFIED:20201210T003657Z
UID:10553-1607500800-1612112400@belmontart.org
SUMMARY:Paint Pals with Ian Todreas
DESCRIPTION:Ian Todreas is asking for help spreading the word about a project he initiated:\n“Diving into a creative pursuit is a great way to fight anxiety\, depression\, and loneliness while having fun and opening up new avenues to connect with others. Do you know any Belmont seniors who are feeling a bit bored\, isolated\, or in need of a new pursuit? Using the honorarium I received from the BAA\, for the transformer box project\, I am sponsoring a new pilot initiative called “Paint Pals.” I’m offering a free set of watercolor paints\, a brush\, and paper to any Belmont senior along with an hour of guidance and instruction via Zoom or outside socially distant\, fully masked. No prior art experience necessary–just a\nwillingness to play with and explore this wonderful medium. If any BAA member would like to step in\, your participation is more than welcome. For more information\, please contact me at Ian-at-Todreas.com.”
URL:https://belmontart.org/calendar/paint-pals-with-ian-todreas/
CATEGORIES:Artist Talks,BAA Members Events,Classes, Programs, Workshops
END:VEVENT
BEGIN:VEVENT
DTSTART;TZID=America/New_York:20201217T190000
DTEND;TZID=America/New_York:20201217T210000
DTSTAMP:20260424T100848
CREATED:20201210T003212Z
LAST-MODIFIED:20201210T003242Z
UID:10551-1608231600-1608238800@belmontart.org
SUMMARY:Members' Meeting - Dec 2020
DESCRIPTION:“How to Make Videos of Your Artwork”\n\n7:00 – 9:00 pm\, with time to socialize and connect 6:45 – 7:00\, and after 9:00\n\nIs it possible that this is the last BAA meeting for the year? We made it! There are two vey exciting programs coming up. Thanks to Dari\, we will end the year with a presentation topic of interest to many of you\, and start the new year with one that is equally exciting – you’ll hear the details for the January meeting next week or in another email.\n\nThe highlight of the December meeting will be a presentation by Meredith Holch and Frédérique Rigoulot – see below for details. We’ll send out a reminder with an agenda for the business portion of the meeting\, but you must RSVP by emailing us\, Wednesday\, December 16th\, in order to get the zoom link for this meeting.\n\nFredérique Rigoulot and Meredith Holch of the Belmont Media Center will present various techniques for using a cell phone to make videos of 2D and 3D artwork. They will go over technical basics such as camera settings\, lighting set-up\, and various ways to stabilize the camera. They will also consider production choices like the use of close-ups for detail shots\, shooting from different angles\, and camera moves. They will also cover how to shoot time-lapse video of an artwork-in-process. The style of video ultimately depends on its intended use\, whether for social media\, website\, etc. Finally\, they will touch on editing and suggest various editing and time-lapse apps.
URL:https://belmontart.org/calendar/members-meeting-dec-2020/
CATEGORIES:BAA Events
END:VEVENT
END:VCALENDAR