BEGIN:VCALENDAR
VERSION:2.0
PRODID:-//Belmont Art Association - ECPv6.15.18//NONSGML v1.0//EN
CALSCALE:GREGORIAN
METHOD:PUBLISH
X-WR-CALNAME:Belmont Art Association
X-ORIGINAL-URL:https://belmontart.org
X-WR-CALDESC:Events for Belmont Art Association
REFRESH-INTERVAL;VALUE=DURATION:PT1H
X-Robots-Tag:noindex
X-PUBLISHED-TTL:PT1H
BEGIN:VTIMEZONE
TZID:America/New_York
BEGIN:DAYLIGHT
TZOFFSETFROM:-0500
TZOFFSETTO:-0400
TZNAME:EDT
DTSTART:20190310T070000
END:DAYLIGHT
BEGIN:STANDARD
TZOFFSETFROM:-0400
TZOFFSETTO:-0500
TZNAME:EST
DTSTART:20191103T060000
END:STANDARD
BEGIN:DAYLIGHT
TZOFFSETFROM:-0500
TZOFFSETTO:-0400
TZNAME:EDT
DTSTART:20200308T070000
END:DAYLIGHT
BEGIN:STANDARD
TZOFFSETFROM:-0400
TZOFFSETTO:-0500
TZNAME:EST
DTSTART:20201101T060000
END:STANDARD
BEGIN:DAYLIGHT
TZOFFSETFROM:-0500
TZOFFSETTO:-0400
TZNAME:EDT
DTSTART:20210314T070000
END:DAYLIGHT
BEGIN:STANDARD
TZOFFSETFROM:-0400
TZOFFSETTO:-0500
TZNAME:EST
DTSTART:20211107T060000
END:STANDARD
END:VTIMEZONE
BEGIN:VEVENT
DTSTART;TZID=America/New_York:20201117T190000
DTEND;TZID=America/New_York:20201117T210000
DTSTAMP:20260424T115016
CREATED:20201102T002518Z
LAST-MODIFIED:20201210T002627Z
UID:10548-1605639600-1605646800@belmontart.org
SUMMARY:Members' Meeting - Nov 2020
DESCRIPTION:Socialize and connect 6:45 – 7:00\, and after 9:00.\n\n\nImportant: make sure to click on the RSVP button in your reminder email in order to get the zoom link. Naomi will do a last check for RSVPs Tuesday at noon. The highlight of the meeting will be a panel discussion\, “Social Media Toolbox.” Panelists are Erin Sandler-Rathe\, Executive Director of the Lexington Chamber of Commerce\, and BAA members Liz LaManche\, Fleur Thesmar\, and Ian Todreas.\n\n\nSchedule and Agenda\n6:45 – 7:00 Social time prior to business meeting\n7:00 – 7:30 Business Meeting\n• Summary of survey results\n• Submission of LCC Grant Application\n• Other brief updates.\n7:30 – 8:30 Panel discussion. *During the panel discussion all microphones will be muted except for the panelists. We are asking people to submit questions in the chat\, or save for the Q&A.\n8:30 – 9:00 Q&A\n9:00 – 9:15 Social time following Q&A if members wish to stay online.\n\n\nWe look forward to seeing everyone!
URL:https://belmontart.org/calendar/members-meeting-nov-2020/
CATEGORIES:BAA Events
END:VEVENT
END:VCALENDAR