BEGIN:VCALENDAR
VERSION:2.0
PRODID:-//Belmont Art Association - ECPv6.15.18//NONSGML v1.0//EN
CALSCALE:GREGORIAN
METHOD:PUBLISH
X-WR-CALNAME:Belmont Art Association
X-ORIGINAL-URL:https://belmontart.org
X-WR-CALDESC:Events for Belmont Art Association
REFRESH-INTERVAL;VALUE=DURATION:PT1H
X-Robots-Tag:noindex
X-PUBLISHED-TTL:PT1H
BEGIN:VTIMEZONE
TZID:America/New_York
BEGIN:DAYLIGHT
TZOFFSETFROM:-0500
TZOFFSETTO:-0400
TZNAME:EDT
DTSTART:20240310T070000
END:DAYLIGHT
BEGIN:STANDARD
TZOFFSETFROM:-0400
TZOFFSETTO:-0500
TZNAME:EST
DTSTART:20241103T060000
END:STANDARD
BEGIN:DAYLIGHT
TZOFFSETFROM:-0500
TZOFFSETTO:-0400
TZNAME:EDT
DTSTART:20250309T070000
END:DAYLIGHT
BEGIN:STANDARD
TZOFFSETFROM:-0400
TZOFFSETTO:-0500
TZNAME:EST
DTSTART:20251102T060000
END:STANDARD
BEGIN:DAYLIGHT
TZOFFSETFROM:-0500
TZOFFSETTO:-0400
TZNAME:EDT
DTSTART:20260308T070000
END:DAYLIGHT
BEGIN:STANDARD
TZOFFSETFROM:-0400
TZOFFSETTO:-0500
TZNAME:EST
DTSTART:20261101T060000
END:STANDARD
END:VTIMEZONE
BEGIN:VEVENT
DTSTART;TZID=America/New_York:20250308T080000
DTEND;TZID=America/New_York:20250531T170000
DTSTAMP:20260423T073631
CREATED:20250213T201327Z
LAST-MODIFIED:20250430T213843Z
UID:11526-1741420800-1748710800@belmontart.org
SUMMARY:Inspirations Exhibit
DESCRIPTION:Extended through May 31!\n\n\n\nMembers show at the warm and inviting Belmont Gallery of Art. Gain insight into what inspires artists to create. It could be an event\, a person\, a passion\, a cause… \n\n\n\nWhat\, Who\, Why\n\n\n\nInspiration can relate to the influence of another artist’s work\, a mentor\, your personal experience\, etc. \n\n\n\n\n\n\n\nReception\n\n\n\nMarch 22\, 2025\, 2-4 pm \n\n\n\nWe’d love to see you! Please join us!
URL:https://belmontart.org/calendar/inspirations-exhibit/
LOCATION:MA
CATEGORIES:Art Receptions,Art Shows | Exhibits,BAA Events
END:VEVENT
BEGIN:VEVENT
DTSTART;TZID=America/New_York:20250509T080000
DTEND;TZID=America/New_York:20250627T170000
DTSTAMP:20260423T073631
CREATED:20250627T103629Z
LAST-MODIFIED:20250627T103630Z
UID:11633-1746777600-1751043600@belmontart.org
SUMMARY:Contemporary Printmaking
DESCRIPTION:Printmaking show at the Mosesian Center for the Arts in Watertown\, MA.  \n\n\n\nArtwork by Karen McCarthy
URL:https://belmontart.org/calendar/contemporary-printmaking/
LOCATION:Mosesian Center for the Arts\, 321 Arsenal St.\, Watertown\, MA\, 02472\, United States
CATEGORIES:Art Shows | Exhibits
END:VEVENT
BEGIN:VEVENT
DTSTART;TZID=America/New_York:20250520T080000
DTEND;TZID=America/New_York:20250715T170000
DTSTAMP:20260423T073631
CREATED:20250626T232639Z
LAST-MODIFIED:20250626T232640Z
UID:11629-1747728000-1752598800@belmontart.org
SUMMARY:Hull Town Hall Show
DESCRIPTION:Hull Artists presents 2-person shows throughout the year\, at Hull Town Hall. \n\n\n\nThe works of Anne Katzeff (BAA and Hull Art member) and Brenda Henriquez are currently on display.
URL:https://belmontart.org/calendar/hull-town-hall-show/
LOCATION:Hull Town Hall\, 253 Atlantic Ave.\, Hull\, Massachusetts\, 02045\, United States
CATEGORIES:Art Shows | Exhibits,BAA Members Events
END:VEVENT
END:VCALENDAR