BEGIN:VCALENDAR
VERSION:2.0
PRODID:-//Belmont Art Association - ECPv6.15.18//NONSGML v1.0//EN
CALSCALE:GREGORIAN
METHOD:PUBLISH
X-ORIGINAL-URL:https://belmontart.org
X-WR-CALDESC:Events for Belmont Art Association
REFRESH-INTERVAL;VALUE=DURATION:PT1H
X-Robots-Tag:noindex
X-PUBLISHED-TTL:PT1H
BEGIN:VTIMEZONE
TZID:America/New_York
BEGIN:DAYLIGHT
TZOFFSETFROM:-0500
TZOFFSETTO:-0400
TZNAME:EDT
DTSTART:20150308T070000
END:DAYLIGHT
BEGIN:STANDARD
TZOFFSETFROM:-0400
TZOFFSETTO:-0500
TZNAME:EST
DTSTART:20151101T060000
END:STANDARD
BEGIN:DAYLIGHT
TZOFFSETFROM:-0500
TZOFFSETTO:-0400
TZNAME:EDT
DTSTART:20160313T070000
END:DAYLIGHT
BEGIN:STANDARD
TZOFFSETFROM:-0400
TZOFFSETTO:-0500
TZNAME:EST
DTSTART:20161106T060000
END:STANDARD
BEGIN:DAYLIGHT
TZOFFSETFROM:-0500
TZOFFSETTO:-0400
TZNAME:EDT
DTSTART:20170312T070000
END:DAYLIGHT
BEGIN:STANDARD
TZOFFSETFROM:-0400
TZOFFSETTO:-0500
TZNAME:EST
DTSTART:20171105T060000
END:STANDARD
END:VTIMEZONE
BEGIN:VEVENT
DTSTART;TZID=America/New_York:20160505T140000
DTEND;TZID=America/New_York:20160505T160000
DTSTAMP:20260423T063632
CREATED:20160410T215457Z
LAST-MODIFIED:20160410T215601Z
UID:9112-1462456800-1462464000@belmontart.org
SUMMARY:Sanya Colson-Inam - Still Life / Life Still - Reception
DESCRIPTION:BAA member\, Sanya Colson-Inam\, is participating in a special exhibition of the Dedham Sq. Artist Guild\, hosted at the Dedham Community Theater. \nOpening Reception: May 5th @ 6-8 pm.  \nExplore still life in a traditional approach by studying objects arranged in a balanced composition; or\, where objects are caught in their natural surroundings and documented.
URL:https://belmontart.org/calendar/sanya-colson-inam-still-life-life-still-reception/
LOCATION:Dedham Community Theater\, 580 High Street\, Dedham\, MA\, 02026\, United States
CATEGORIES:Art Receptions,Art Shows | Exhibits,BAA Members Events
END:VEVENT
BEGIN:VEVENT
DTSTART;TZID=America/New_York:20160508T100000
DTEND;TZID=America/New_York:20160508T120000
DTSTAMP:20260423T063632
CREATED:20160417T225950Z
LAST-MODIFIED:20160417T230141Z
UID:9121-1462701600-1462708800@belmontart.org
SUMMARY:Kay Hudgins - Outer Spaces - Reception
DESCRIPTION:OUTER SPACES: Paintings Inspired by Walks in Massachusetts Audubon Sanctuaries\nSanctuary Birches Diptych\, © Kay Hudgins\nBAA member\, Kay Hudgins\, will have a Solo Exhibition during the month of May at Habitat Education Center and Wildlife Sanctuary. \nOpening Reception: Sunday\, May 8\, 2016 | 2:00 – 4:00 p.m. \nHabitat hours: Monday – Friday 8:30 a.m. – 4:30 p.m.\, Saturday and Sunday 10:00 a.m. – 4:00 p.m.
URL:https://belmontart.org/calendar/kay-hudgins-outer-spaces-reception/
LOCATION:Mass. Audubon Habitat Education Center and Wildlife Sanctuary\, 10 Juniper Rd.\, Belmont\, MA\, 02478\, United States
CATEGORIES:Art Receptions,Art Shows | Exhibits,BAA Members Events
END:VEVENT
END:VCALENDAR